BEGIN:VCALENDAR
PRODID:http://www.kufer.de/kuferweb / DE
VERSION:2.0
METHOD:PUBLISH
CALSCALE:GREGORIAN
X-WR-TIMEZONE:Europe/Berlin
BEGIN:VTIMEZONE
TZID:Europe/Berlin
X-LIC-LOCATION:Europe/Berlin
BEGIN:DAYLIGHT
TZOFFSETFROM:+0100
TZOFFSETTO:+0200
TZNAME:CEST
DTSTART;TZID=Europe/Berlin:19700329T020000
RRULE:FREQ=YEARLY;INTERVAL=1;BYDAY=-1SU;BYMONTH=3
END:DAYLIGHT
BEGIN:STANDARD
TZOFFSETFROM:+0200
TZOFFSETTO:+0100
TZNAME:CET
DTSTART;TZID=Europe/Berlin:19701025T030000
RRULE:FREQ=YEARLY;INTERVAL=1;BYDAY=-1SU;BYMONTH=10
END:STANDARD
END:VTIMEZONE
BEGIN:VEVENT
DTSTAMP:20260425T134524
DTSTART;TZID=Europe/Berlin:20260504T180000
DTEND;TZID=Europe/Berlin:20260504T190000
UID:Y30117A H-20260504T180000@VHSBRUCHSAL
SUMMARY:Entspannungstraining mit Progressiver Muskelentspannung nach Jacobsen (PMR) & Autogenes Training (AT) für den Alltag leicht gemacht (Y30117A H) 
LOCATION:Jägerhaus, Dörre, Schwanenstr. 24, 76694 Forst
END:VEVENT
BEGIN:VEVENT
DTSTAMP:20260425T134524
DTSTART;TZID=Europe/Berlin:20260511T180000
DTEND;TZID=Europe/Berlin:20260511T190000
UID:Y30117A H-20260511T180000@VHSBRUCHSAL
SUMMARY:Entspannungstraining mit Progressiver Muskelentspannung nach Jacobsen (PMR) & Autogenes Training (AT) für den Alltag leicht gemacht (Y30117A H) 
LOCATION:Jägerhaus, Dörre, Schwanenstr. 24, 76694 Forst
END:VEVENT
BEGIN:VEVENT
DTSTAMP:20260425T134524
DTSTART;TZID=Europe/Berlin:20260518T180000
DTEND;TZID=Europe/Berlin:20260518T190000
UID:Y30117A H-20260518T180000@VHSBRUCHSAL
SUMMARY:Entspannungstraining mit Progressiver Muskelentspannung nach Jacobsen (PMR) & Autogenes Training (AT) für den Alltag leicht gemacht (Y30117A H) 
LOCATION:Jägerhaus, Dörre, Schwanenstr. 24, 76694 Forst
END:VEVENT
BEGIN:VEVENT
DTSTAMP:20260425T134524
DTSTART;TZID=Europe/Berlin:20260608T180000
DTEND;TZID=Europe/Berlin:20260608T190000
UID:Y30117A H-20260608T180000@VHSBRUCHSAL
SUMMARY:Entspannungstraining mit Progressiver Muskelentspannung nach Jacobsen (PMR) & Autogenes Training (AT) für den Alltag leicht gemacht (Y30117A H) 
LOCATION:Jägerhaus, Dörre, Schwanenstr. 24, 76694 Forst
END:VEVENT
END:VCALENDAR